BEGIN:VCALENDAR
VERSION:2.0
PRODID:icalendar-ruby
CALSCALE:GREGORIAN
METHOD:PUBLISH
BEGIN:VEVENT
DTSTAMP:20260423T175227Z
UID:275-1521715@firstunitedchurchottawa.org
DTSTART:20260426T165000Z
DTEND:20260426T180000Z
CLASS:PUBLIC
CREATED:20260423T105608
DESCRIPTION:Fundraiser Trivia- a Rite 13 fundraiser for MultiFaith Housing'
 s Tulipathon!\nBring your phone or tablet to join in the fun! Learn about 
 MultiFaith Housing Initiative! Support your youth and their fundraising ef
 forts!
LAST-MODIFIED:20260423T105608
LOCATION:First United
SUMMARY:Rite 13 Fundraiser
URL;VALUE=URI:https://firstunitedchurchottawa.org/events/rite-13-fundraiser
 /2026-04-26
ATTACH;FILENAME=MHI.jpg;FMTTYPE=image/jpeg:https://dq5pwpg1q8ru0.cloudfront
 .net/2026/04/23/14/56/08/8e28e816-e82d-4906-b5ad-09e52cd58923/MHI.jpg
END:VEVENT
END:VCALENDAR
